BEGIN:VCALENDAR
VERSION:2.0
PRODID:-//RENO MAX serwis samochodów francuskich Renault Peugeot Citroen - ECPv6.15.17//NONSGML v1.0//EN
CALSCALE:GREGORIAN
METHOD:PUBLISH
X-ORIGINAL-URL:https://renomax.waw.pl
X-WR-CALDESC:Wydarzenia dla RENO MAX serwis samochodów francuskich Renault Peugeot Citroen
REFRESH-INTERVAL;VALUE=DURATION:PT1H
X-Robots-Tag:noindex
X-PUBLISHED-TTL:PT1H
BEGIN:VTIMEZONE
TZID:UTC
BEGIN:STANDARD
TZOFFSETFROM:+0000
TZOFFSETTO:+0000
TZNAME:UTC
DTSTART:20230101T000000
END:STANDARD
END:VTIMEZONE
BEGIN:VEVENT
DTSTART;TZID=UTC:20240903T080000
DTEND;TZID=UTC:20250502T170000
DTSTAMP:20260421T155114
CREATED:20240904T094004Z
LAST-MODIFIED:20240924T173034Z
UID:1393-1725350400-1746205200@renomax.waw.pl
SUMMARY:Diagnoza komputerowa Citroen Warszawa
DESCRIPTION:Zapraszamy na fachową diagnostykę komputerową dedykowaną samochodom marki Citroen.\nOgromne doświadczenie naszych pracowników\, oryginalne oprogramowanie i pełen dostęp do aktualnej dokumentacji Citroena sprawi\, że trafnie zweryfikujemy usterki i sprawnie naprawimy Twoje auto. \nZadzwoń i umów się na wizytę w naszym warsztacie Citroena!
URL:https://renomax.waw.pl/wydarzenia/diagnoza-komputerowa-citroen-warszawa/
LOCATION:RENO MAX\, ul. Bukowa 14\, Szeligi\, mazowieckie\, 05-850\, Poland
CATEGORIES:SPRZEDAŻ
ATTACH;FMTTYPE=image/jpeg:https://renomax.waw.pl/wp-content/uploads/2020/02/reno-max-diagnostyka-komputerowa-renault-peugeot-citroen.jpg
ORGANIZER;CN="RENO MAX":MAILTO:serwis@renomax.waw.pl
END:VEVENT
BEGIN:VEVENT
DTSTART;TZID=UTC:20240902T080000
DTEND;TZID=UTC:20250623T080000
DTSTAMP:20260421T155114
CREATED:20240801T104438Z
LAST-MODIFIED:20240924T172936Z
UID:1066-1725264000-1750665600@renomax.waw.pl
SUMMARY:Wymień rozrząd Renault Peugeot Citroen Warszawa już teraz
DESCRIPTION:Zapraszamy do serwisu na wymianę rozrządu w autach Renault Peugeot Citroen Warszawa. Zapewniamy części zarówno dobre jakościowo zamienniki jak i oryginały.\nOferujemy również możliwość zakupu samych zestawów rozrządu. \nJeżeli nie jesteś pewien czy nadszedł czas na wymianę rozrządu w Twoim aucie zadzwoń\, odpowiemy na każde pytanie. \nW celu wykonania usługi bądź zapytań o wycenę prosimy o kontakt telefoniczny z serwisem tel 509-960-242. \nPamiętaj wymiana rozrządu w odpowiednim czasie to spokój o silnik\, który może ulec poważnej awarii!
URL:https://renomax.waw.pl/wydarzenia/lepiej-zapobiegac-niz-drozej-usuwac-skutki-wymien-rozrzad/
LOCATION:RENO MAX\, ul. Bukowa 14\, Szeligi\, mazowieckie\, 05-850\, Poland
CATEGORIES:SPRZEDAŻ
ATTACH;FMTTYPE=image/png:https://renomax.waw.pl/wp-content/uploads/2018/08/rozrząd.png
ORGANIZER;CN="RENO MAX":MAILTO:serwis@renomax.waw.pl
END:VEVENT
BEGIN:VEVENT
DTSTART;VALUE=DATE:20240902
DTEND;VALUE=DATE:20250725
DTSTAMP:20260421T155114
CREATED:20240910T120701Z
LAST-MODIFIED:20240924T173306Z
UID:1708-1725235200-1753401599@renomax.waw.pl
SUMMARY:Weryfikacja naprawa\, kompleksowy remont czy wymiana silnika Renault Espace
DESCRIPTION:Zapraszamy do skorzystania z usługi weryfikacji usterek w silniku w samochodach Renault Espace. \nZajmujemy się kompleksową usługą poczynając od diagnostyki komputerowej\, poprzez demontaż\, weryfikację\, remont silnika lub w ostateczności jego wymianę. \n \n \nZapraszamy do kontaktu telefonicznego! \ntel. 509-960-242
URL:https://renomax.waw.pl/wydarzenia/kompleksowy-remont-lub-wymiana-silnika-renault-espace/
LOCATION:RENO MAX\, ul. Bukowa 14\, Szeligi\, mazowieckie\, 05-850\, Poland
CATEGORIES:SPRZEDAŻ
ATTACH;FMTTYPE=image/jpeg:https://renomax.waw.pl/wp-content/uploads/2023/11/naprawa-silnika-Renault-Espace-Reno-Max-Szeligi-Warszawa-jpg.webp
ORGANIZER;CN="RENO MAX":MAILTO:serwis@renomax.waw.pl
END:VEVENT
END:VCALENDAR